Workbook

Sheet Portföljvärde
B1: Portfölj | F1: Index | K1: Jämförelse per månad | O1: Jämförelse totalt
A2: Datum | B2: Värde | C2: Månadens förändring | D2: % PER MÅNAD PÅ totalt KAPITAL | E2: Ackumulerat % på totalt investerat kapital | F2: OMXS30 | G2: % senaste månaden | H2: % sedan 20191231 | K2: =A2 -> Datum | L2: Portfölj% | M2: OMXS30 | O2: Datum | P2: Portfölj% | Q2: OMXS30
A3: 43830 | B3: =15*15000 -> 225000 | E3: 0 | F3: 1771.9 | H3: 0 | K3: =A4 -> 43861 | L3: =D4 -> 0 | M3: =G4 -> 0 | O3: =A3 -> 43830 | P3: =E3 -> 0 | Q3: =H3 -> 0
A4: 43861 | B4: ='20200131'!I3 -> 229574.33 | C4: =B4-B3 -> 4574.3338 | D4: 0 | E4: =(B4-$B$3)/$B$3 -> 0.020330372 | F4: 1783.3 | G4: 0 | H4: =(F4-$F$3)/$F$3 -> 0.0064337717 | K4: =A5 -> 43889 | L4: =D5 -> 0.097853417 | M4: =G5 -> -0.064206808 | O4: =A4 -> 43861 | P4: =E4*100 -> 2.0330372 | Q4: =H4*100 -> 0.64337717
A5: 43889 | B5: ='20200228'!I3 -> 252038.97 | C5: =B5-B4 -> 22464.633 | D5: =C5/B4 -> 0.097853417 | E5: =(B5-$B$3)/$B$3 -> 0.12017319 | F5: 1668.8 | G5: =(F5-F4)/F4 -> -0.064206808 | H5: =(F5-$F$3)/$F$3 -> -0.058186128 | K5: =A6 -> 43920 | L5: =D6 -> 0 | M5: =G6 -> -0.11169703 | O5: =A5 -> 43889 | P5: =E5*100 -> 12.017319 | Q5: =H5*100 -> -5.8186128
A6: 43920 | B6: ='20200331'!I3 -> 252038.97 | C6: =B6-B5 -> 0 | D6: =C6/B5 -> 0 | E6: =(B6-$B$3)/$B$3 -> 0.12017319 | F6: 1482.4 | G6: =(F6-F5)/F5 -> -0.11169703 | H6: =(F6-$F$3)/$F$3 -> -0.16338394 | K6: =A7 -> 43951 | L6: =D7 -> 0.072084075 | M6: =G7 -> 0.064422558 | O6: =A6 -> 43920 | P6: =E6*100 -> 12.017319 | Q6: =H6*100 -> -16.338394
A7: 43951 | B7: ='20200430'!I3 -> 270206.96 | C7: =B7-B6 -> 18167.996 | D7: =C7/B6 -> 0.072084075 | E7: =(B7-$B$3)/$B$3 -> 0.20091983 | F7: 1577.9 | G7: =(F7-F6)/F6 -> 0.064422558 | H7: =(F7-$F$3)/$F$3 -> -0.10948699 | K7: =A8 -> 43982 | L7: =D8 -> 0.091225783 | M7: =G8 -> 0.039204005 | O7: =A7 -> 43951 | P7: =E7*100 -> 20.091983 | Q7: =H7*100 -> -10.948699
A8: 43982 | B8: ='20200531'!K3 -> 294856.8 | C8: =B8-B7 -> 24649.842 | D8: =C8/B7 -> 0.091225783 | E8: =(B8-$B$3)/$B$3 -> 0.31047468 | F8: ='20200531'!N4 -> 1639.76 | G8: =(F8-F7)/F7 -> 0.039204005 | H8: =(F8-$F$3)/$F$3 -> -0.074575315 | K8: =A9 -> 44012 | L8: =D9 -> 0.049095589 | M8: =G9 -> 0.015026589 | O8: =A8 -> 43982 | P8: =E8*100 -> 31.047468 | Q8: =H8*100 -> -7.4575315
A9: 44012 | B9: ='20200630'!H3 -> 309332.97 | C9: =B9-B8 -> 14476.168 | D9: =C9/B8 -> 0.049095589 | E9: =(B9-$B$3)/$B$3 -> 0.37481321 | F9: 1664.4 | G9: =(F9-F8)/F8 -> 0.015026589 | H9: =(F9-$F$3)/$F$3 -> -0.060669338 | K9: =A10 -> 44043 | L9: =D10 -> 0.029847976 | M9: =G10 -> 0.025835136 | O9: =A9 -> 44012 | P9: =E9*100 -> 37.481321 | Q9: =H9*100 -> -6.0669338
A10: 44043 | B10: ='20200731'!B5 -> 318565.94 | C10: =B10-B9 -> 9232.963 | D10: =C10/B9 -> 0.029847976 | E10: =(B10-$B$3)/$B$3 -> 0.4158486 | F10: 1707.4 | G10: =(F10-F9)/F9 -> 0.025835136 | H10: =(F10-$F$3)/$F$3 -> -0.036401603 | K10: 44074 | L10: =D11 -> 0.062416814 | M10: =G11 -> 0.034514466 | O10: =A10 -> 44043 | P10: =E10*100 -> 41.58486 | Q10: =H10*100 -> -3.6401603
A11: 44074 | B11: ='20200831'!H3 -> 338449.81 | C11: =B11-B10 -> 19883.871 | D11: =C11/B10 -> 0.062416814 | E11: =(B11-$B$3)/$B$3 -> 0.50422136 | F11: 1766.33 | G11: =(F11-F10)/F10 -> 0.034514466 | H11: =(F11-$F$3)/$F$3 -> -0.0031435183 | K11: =A12 -> 44104 | L11: =D12 -> 0 | M11: =G12 -> 0.035706805 | O11: 44074 | P11: =E11*100 -> 50.422136 | Q11: =H11*100 -> -0.31435183
A12: 44104 | B12: ='20200930'!H3 -> 338449.81 | C12: =B12-B11 -> 0 | D12: =C12/B11 -> 0 | E12: =(B12-$B$3)/$B$3 -> 0.50422136 | F12: 1829.4 | G12: =(F12-F11)/F11 -> 0.035706805 | H12: =(F12-$F$3)/$F$3 -> 0.032451041 | K12: =A13 -> 44135 | L12: =D13 -> 0.001263373 | M12: =G13 -> -0.061102001 | O12: =A12 -> 44104 | P12: =E12*100 -> 50.422136 | Q12: =H12*100 -> 3.2451041
A13: 44135 | B13: ='20201031'!H3 -> 338877.39 | C13: =B13-B12 -> 427.58835 | D13: =C13/B12 -> 0.001263373 | E13: =(B13-$B$3)/$B$3 -> 0.50612175 | F13: 1717.62 | G13: =(F13-F12)/F12 -> -0.061102001 | H13: =(F13-$F$3)/$F$3 -> -0.030633783 | K13: 44165 | L13: =D14 -> 0.12633181 | M13: =G14 -> 0.11639361 | O13: =A13 -> 44135 | P13: =E13*100 -> 50.612175 | Q13: =H13*100 -> -3.0633783
A14: 44165 | B14: ='20201130'!H3 -> 381688.39 | C14: =B14-B13 -> 42810.994 | D14: =C14/B13 -> 0.12633181 | E14: =(B14-$B$3)/$B$3 -> 0.69639284 | F14: 1917.54 | G14: =(F14-F13)/F13 -> 0.11639361 | H14: =(F14-$F$3)/$F$3 -> 0.082194255 | K14: 44196 | L14: =D15 -> 0.09349176 | M14: =G15 -> -0.022320265 | O14: =A14 -> 44165 | P14: =E14*100 -> 69.639284 | Q14: =H14*100 -> 8.2194255
A15: 44196 | B15: ='20201231'!H3 -> 417373.11 | C15: =B15-B14 -> 35684.719 | D15: =C15/B14 -> 0.09349176 | E15: =(B15-$B$3)/$B$3 -> 0.85499159 | F15: ='20201231'!K4 -> 1874.74 | G15: =(F15-F14)/F14 -> -0.022320265 | H15: =(F15-$F$3)/$F$3 -> 0.058039393 | O15: =A15 -> 44196 | P15: =E15*100 -> 85.499159 | Q15: =H15*100 -> 5.8039393
L21: Per månad

Sheet 20200102
A2: Kassa | B2: IB, Föregående månad | C2: Sålt | D2: Kassa före köp | E2: Köp | F2: UB, Kassa efter köp | I2: Totalt värde | K2: Förändring sedan start, kr | L2: Förändring sedan start
A3: Kassa | B3: 225000 | C3: 0 | D3: =B3-C3 -> 225000 | E3: =L22+D22 -> 224332.38 | F3: =D3-E3 -> 667.61524 | I3: =L22+F3 -> 224345 | K3: =I3-'20200102'!B3 -> -655 | L3: =(I3-'20200102'!B3)/'20200102'!B3 -> -0.0029111111
A5: Köp
A6: Datum | B6: Bolag | C6: Antal | D6: courtage | E6: kurs sek | F6: kurs DKK | G6: Kurs NOK | H6: kurs USD | I6: DKK/SEK | J6: NOK/SEK | K6: USD/SEK | L6: summa | M6: Värde | N6: Förändring
A7: 20200102 | B7: AKER/OB | C7: =TRUNC((15000-D7)/(G7*J7),0) -> 25 | D7: 49 | G7: 557.5 | J7: 1.063819 | L7: =C7*G7*J7+D7 -> 14875.977
B8: BURE EQUITY | C8: =TRUNC((15000-D8)/(E8),0) -> 67 | D8: 39 | E8: 222 | L8: =C8*E8+D8 -> 14913
B9: BYGGHEMMA | C9: =TRUNC((15000-D9)/(E9),0) -> 255 | D9: =if(E9>0,39,49) -> 39 | E9: 58.6 | L9: =C9*E9+D9 -> 14982
B10: CRAYON GROUP | C10: =TRUNC((15000-D10)/(G10*J10),0) -> 260 | D10: =if(E10>0,39,49) -> 49 | G10: 54 | J10: 1.063819 | L10: =C10*G10*J10+D10 -> 14985.019
B11: DANSKE BANK | C11: =TRUNC((15000-D11)/(F11*I11),0) -> 96 | D11: =if(E11>0,39,49) -> 49 | F11: 110.3 | I11: 1.40055 | L11: =C11*F11*I11+D11 -> 14879.144
B12: EVOLUTION GAMING GROUP | C12: =TRUNC((15000-D12)/(E12),0) -> 51 | D12: =if(E12>0,39,49) -> 39 | E12: 291.5 | L12: =C12*E12+D12 -> 14905.5
B13: FRONTLINE(NOK) | C13: =TRUNC((15000-D13)/(G13*J13),0) -> 123 | D13: =if(E13>0,39,49) -> 49 | G13: 113.8 | J13: 1.063819 | L13: =C13*G13*J13+D13 -> 14939.7
B14: JYSKE BANK | C14: =TRUNC((15000-D14)/(F14*I14),0) -> 42 | D14: =if(E14>0,39,49) -> 49 | F14: 249.1 | I14: 1.40055 | L14: =C14*F14*I14+D14 -> 14701.834
B15: KONGSBERG AUTOMOTIVE ASA/OB | C15: =TRUNC((15000-D15)/(G15*J15),0) -> 2206 | D15: =if(E15>0,39,49) -> 49 | G15: 6.37 | J15: 1.063819 | L15: =C15*G15*J15+D15 -> 14998.019
B16: MYFC HOLDING | C16: =TRUNC((15000-D16)/(E16),0) -> 11164 | D16: =if(E16>0,39,49) -> 39 | E16: 1.34 | L16: =C16*E16+D16 -> 14998.76
B17: NENT GROUP B | C17: =TRUNC((15000-D17)/(E17),0) -> 47 | D17: =if(E17>0,39,49) -> 39 | E17: 313.2 | L17: =C17*E17+D17 -> 14759.4
B18: POWERCELL SWEDEN | C18: =TRUNC((15000-D18)/(E18),0) -> 93 | D18: =if(E18>0,39,49) -> 39 | E18: 160.6 | L18: =C18*E18+D18 -> 14974.8
B19: PRICER B | C19: =TRUNC((15000-D19)/(E19),0) -> 756 | D19: =if(E19>0,39,49) -> 39 | E19: 19.78 | L19: =C19*E19+D19 -> 14992.68
B20: SAGAX A | C20: =TRUNC((15000-D20)/(E20),0) -> 104 | D20: =if(E20>0,39,49) -> 39 | E20: 143 | L20: =C20*E20+D20 -> 14911
B21: WILH.WILHELMSEN HOLDING A/OB | C21: =TRUNC((15000-D21)/(G21*J21),0) -> 78 | D21: =if(E21>0,39,49) -> 49 | G21: 178.5 | J21: 1.063819 | L21: =C21*G21*J21+D21 -> 14860.552
D22: =SUM(D7:D21) -> 655 | L22: =SUM(L7:L21) -> 223677.38

Sheet 20200131
A1: Vikingen Portfolio
A2: Status 31 jan 2020 | B2: Resultat | C2: Sålt | D2: Ingående kassa | E2: Köp | F2: Utdelning | G2: UB, Kassa efter köp | I2: Totalt värde | J2: Förändring sedan start, SEK | K2: Förändring sedan start | L2: OMXS30 | M2: OMXC25 | N2: Oslo börs | O2: Nasdaq 100
A3: Förändring sedan 2 jan 2020, % | B3: =K3 -> 0.020330372 | C3: =K21 -> 37965.785 | D3: ='20200102'!F3 -> 667.61524 | E3: =K31 -> 28945.267 | F3: 0 | G3: =D3+C3-E3 -> 9688.1334 | I3: =G3+K48 -> 229574.33 | J3: =I3-225000 -> 4574.3338 | K3: =J3/225000 -> 0.020330372 | L3: 1771.9 | M3: 1253.25 | N3: 941.27 | O3: 8872.22
A4: Förändring sedan 2 jan 2020, SEK | B4: =J3 -> 4574.3338 | L4: 1783.3 | M4: 1253.9 | N4: 931.45 | O4: 8733.07
A5: Totalt Värde | B5: =I3 -> 229574.33 | L5: =(L3-L4)/L3 -> -0.0064337717 | M5: =(M3-M4)/M3 -> -0.00051865151 | N5: =(N3-N4)/N3 -> 0.010432713 | O5: =(O3-O4)/O3 -> 0.015683786
A6: Sålt | B6: =K21 -> 37965.785
A7: Köpt | B7: =K31 -> 28945.267
A8: Utdelning | B8: =F3 -> 0
A9: Ingående kassa | B9: =D3 -> 667.61524
A10: Utgående kassa | B10: =G3 -> 9688.1334
A12: Sälj | B12: Antal | C12: courtage | D12: Kurs SEK | E12: kurs DKK | F12: Kurs NOK | G12: Kurs USD | H12: DKK/SEK | I12: NOK/SEK | J12: USD/SEK | K12: summa | L12: Värde | M12: Skillnad | N12: Kurs nu | O12: Förändring sedan sälj
A13: KONGSBERG AUTOMOTIVE ASA/OB | B13: 2206 | C13: 49 | F13: 5.7 | I13: 1.063727 | K13: =I13*F13*B13-C13 -> 13326.516 | N13: 5.13 | O13: =(N13-F13)/F13 -> -0.1
A14: FrontLine | B14: 123 | C14: 49 | F14: 97.9 | I14: 1.061032 | K14: =I14*F14*B14-C14 -> 12727.629 | N14: 82.25 | O14: =(N14-F14)/F14 -> -0.159857
A15: Bear NQ100 x12 Nordnet 1 | B15: 49836 | C15: 49 | D15: 0.24 | K15: =D15*B15-C15 -> 11911.64 | N15: 0.24 | O15: =(N15-D15)/D15 -> 0
K21: =SUM(K13:K20) -> 37965.785 | M21: =L21-K21 -> -37965.785
A23: Köp | B23: Antal | C23: courtage | D23: Kurs SEK | E23: kurs DKK | F23: Kurs NOK | G23: Kurs USD | H23: DKK/SEK | I23: NOK/SEK | J23: USD/SEK | K23: summa | L23: Värde | M23: Skillnad
A24: Bear NQ100 x12 Nordnet 1 | B24: =TRUNC((15000-C24)/(D24),0) -> 49836 | C24: 49 | D24: 0.3 | K24: =B24*D24+C24 -> 14999.8
A25: Monolithic Power Systems | B25: =TRUNC((15000-C25)/(G25*J25),0) -> 8 | C25: 49 | G25: 182.2 | J25: 9.5338 | K25: =(B25*G25*J25)+C25 -> 13945.467 | N25: 43851
K31: =SUM(K24:K30) -> 28945.267 | M31: =L31-K31 -> -28945.267
A32: Kurser 20200131
A33: Innehav | B33: Antal | C33: courtage | D33: Kurs SEK | E33: kurs DKK | F33: Kurs NOK | G33: kurs USD | H33: DKK/SEK | I33: NOK/SEK | J33: USD/SEK | K33: summa | L33: Värde | M33: Förändring
A34: AKER/OB | B34: 25 | F34: 511.5 | I34: 1.048299 | K34: =B34*F34*I34 -> 13405.123 | V34: Volym
A35: BURE EQUITY | B35: 67 | D35: 215 | K35: =B35*D35 -> 14405 | V35: 40482
A36: BYGGHEMMA | B36: 255 | D36: 69.3 | K36: =B36*D36 -> 17671.5 | V36: 75579
A37: CRAYON GROUP | B37: 260 | F37: 62.4 | I37: 1.048299 | K37: =B37*F37*I37 -> 17007.603 | V37: 213348
A38: DANSKE BANK | B38: 96 | E38: 112.9 | H38: 1.425522 | K38: =B38*E38*H38 -> 15450.378 | V38: 170605
A39: EVOLUTION GAMING GROUP | B39: 51 | D39: 298 | K39: =B39*D39 -> 15198 | V39: 982004
A40: JYSKE BANK | B40: 42 | E40: 256.8 | H40: 1.425522 | K40: =B40*E40*H40 -> 15375.11 | V40: 1047485
A41: MYFC HOLDING | B41: 11164 | D41: 2.03 | K41: =B41*D41 -> 22662.92 | V41: 255296
A42: NENT GROUP B | B42: 47 | D42: 292.6 | K42: =B42*D42 -> 13752.2 | V42: 3964484
A43: POWERCELL SWEDEN | B43: 93 | D43: 193.8 | K43: =B43*D43 -> 18023.4 | V43: 8947
A44: PRICER B | B44: 756 | D44: 21.3 | K44: =B44*D44 -> 16102.8 | V44: 335531
A45: SAGAX A | B45: 104 | D45: 151 | K45: =B45*D45 -> 15704 | V45: 904770
A46: Monolithic Power Systems | B46: 8 | G46: 171.2 | J46: 9.6605 | K46: =J46*G46*B46 -> 13231.021
A47: WILH.WILHELMSEN HOLDING A/OB | B47: 78 | F47: 145.5 | I47: 1.048299 | K47: =B47*F47*I47 -> 11897.145 | V47: 2404
C48: =SUM(C34:C47) -> 0 | K48: =SUM(K34:K47) -> 219886.2 | V48: 668

Sheet 20200228
A1: Vikingen Portfolio
A2: Status köp/sälj 28 feb | B2: Resultat | C2: Sålt | D2: Ingående kassa | E2: Köp | F2: Utdelning | G2: UB, Kassa efter köp | I2: Totalt värde | J2: Förändring sedan start, SEK | K2: Förändring sedan start | L2: OMXS30 | M2: OMXC25 | N2: Oslo börs | O2: Nasdaq 100
A3: Förändring sedan 2 jan 2020, % | B3: =K3 -> 0.12017319 | C3: =K39 -> 378013.19 | D3: ='20200131'!G3 -> 9688.1334 | E3: =K53 -> 135662.36 | F3: 0 | G3: =D3+C3-E3 -> 252038.97 | I3: =G3+K69 -> 252038.97 | J3: =I3-225000 -> 27038.967 | K3: =J3/225000 -> 0.12017319 | L3: 1771.9 | M3: 1253.9 | N3: 931.5 | O3: 8733.1 | P3: 43830 | S3: =15*15 -> 225
A4: Förändring sedan 2 jan 2020, SEK | B4: =J3 -> 27038.967 | L4: 1668.8 | M4: 1218.7 | N4: 830.3 | O4: 8461.8 | P4: 43889
A5: Totalt Värde | B5: =I3 -> 252038.97 | L5: =(L4-L3)/L3 -> -0.058186128 | M5: =(M4-M3)/M3 -> -0.028072414 | N5: =(N4-N3)/N3 -> -0.10864198 | O5: =(O4-O3)/O3 -> -0.031065716
A6: Sålt | B6: =K39 -> 378013.19
A7: Köpt | B7: =K53 -> 135662.36
A8: Utdelning | B8: =F3 -> 0
A9: Ingående kassa | B9: =D3 -> 9688.1334
A10: Utgående kassa | B10: =G3 -> 252038.97
A12: Sälj | B12: Antal | C12: courtage | D12: Kurs SEK | E12: kurs DKK | F12: Kurs NOK | G12: Kurs USD | H12: DKK/SEK | I12: NOK/SEK | J12: USD/SEK | K12: summa | L12: Värde | M12: Skillnad | N12: Kurs nu | O12: Förändring sedan sälj | R12: koll
A13: AKER/OB | B13: 25 | C13: 49 | F13: 510.5 | I13: 1.042814 | K13: =I13*F13*B13-C13 -> 13259.914 | N13: 440.8 | O13: =(N13-F13)/F13 -> -0.13653281 | Q13: 43864 | R13: 1
A14: BURE EQUITY | B14: 67 | C14: 39 | D14: 215 | K14: =B14*D14-C14 -> 14366 | N14: 190.2 | O14: =(N14-D14)/D14 -> -0.11534884 | Q14: 43864 | R14: 1
A15: EVOLUTION GAMING GROUP | B15: 51 | C15: 39 | D15: 300.5 | K15: =B15*D15-C15 -> 15286.5 | N15: 405 | O15: =(N15-D15)/D15 -> 0.34775374 | Q15: 43864 | R15: 1
A16: MYFC HOLDING | B16: 11164 | C16: 39 | D16: 1.99 | K16: =B16*D16-C16 -> 22177.36 | N16: 1.79 | O16: =(N16-D16)/D16 -> -0.10050251 | Q16: 43864 | R16: 1
A17: NENT GROUP B | B17: 47 | C17: 39 | D17: 294 | K17: =B17*D17-C17 -> 13779 | N17: 306 | O17: =(N17-D17)/D17 -> 0.040816327 | Q17: 43864 | R17: 1
A18: WILH.WILHELMSEN HOLDING A/OB | B18: 78 | C18: 49 | F18: 145.5 | I18: 1.042814 | K18: =I18*F18*B18-C18 -> 11785.896 | N18: 148 | O18: =(N18-F18)/F18 -> 0.017182131 | Q18: 43864 | R18: 1
A19: Monolithic Power Systems Inc | B19: 8 | C19: 49 | G19: 175.2 | J19: 9.6347 | K19: =(B19*G19*J19)-C19 -> 13454.996 | N19: 165.87 | O19: =(N19-G19)/G19 -> -0.053253425 | Q19: 43864 | R19: 1
A20: EVOLUTION GAMING GROUP | B20: 39 | C20: 39 | D20: 407 | K20: =B20*D20-C20 -> 15834 | N20: 405 | O20: =(N20-D20)/D20 -> -0.0049140049 | Q20: 43885 | R20: 1
A21: Crayon Goup | B21: 260 | C21: 49 | F21: 55.4 | I21: 1.044 | K21: =I21*F21*B21-C21 -> 14988.776 | N21: 55 | O21: =(N21-F21)/F21 -> -0.0072202166 | Q21: 43885 | R21: 1
A22: Slitevind | B22: 190 | C22: 39 | D22: 67.5 | K22: =B22*D22-C22 -> 12786 | N22: 64 | O22: =(N22-D22)/D22 -> -0.051851852 | Q22: 43885 | R22: 1
A23: Bygghemma | B23: 255 | C23: 39 | D23: 65.9 | K23: =B23*D23-C23 -> 16765.5 | N23: 64.9 | O23: =(N23-D23)/D23 -> -0.015174507 | Q23: 43885 | R23: 1
A24: EQT | B24: 108 | C24: 39 | D24: 150.45 | K24: =B24*D24-C24 -> 16209.6 | Q24: 43887 | R24: 1
A25: Arise | B25: 307 | C25: 39 | D25: 43.7 | K25: =B25*D25-C25 -> 13376.9 | Q25: 43887 | R25: 1
A26: DANSKE BANK | B26: 96 | C26: 49 | E26: 113 | H26: 1.4115 | K26: =E26*H26*B26-C26 -> 15262.952 | Q26: 43887 | R26: 1
A27: JYSKE BANK | B27: 42 | C27: 49 | E27: 250 | H27: 1.4115 | K27: =E27*H27*B27-C27 -> 14771.75 | Q27: 43887 | R27: 1
A28: POWERCELL SWEDEN | B28: 93 | C28: 39 | D28: 237 | K28: =B28*D28-C28 -> 22002 | Q28: 43887 | R28: 1
A29: PRICER B | B29: 756 | C29: 39 | D29: 24.8 | K29: =B29*D29-C29 -> 18709.8 | Q29: 43887 | R29: 1
A30: SAGAX A | B30: 104 | C30: 39 | D30: 149 | K30: =B30*D30-C30 -> 15457 | Q30: 43887 | R30: 1
A31: Inzile | B31: 712 | C31: 39 | D31: 24.8 | K31: =B31*D31-C31 -> 17618.6 | Q31: 43887 | R31: 1
A32: Tele2 A | B32: 100 | C32: 39 | D32: 146.5 | K32: =B32*D32-C32 -> 14611 | Q32: 43887 | R32: 1
A33: Eurobattery minerals | B33: 426 | C33: 39 | D33: 29.4 | K33: =B33*D33-C33 -> 12485.4 | Q33: 43887 | R33: 1
A34: Toadman Interactive | B34: 637 | C34: 39 | D34: 27.25 | K34: =B34*D34-C34 -> 17319.25 | Q34: 43887 | R34: 1
A35: SWEDA0C140 | B35: 8 | C35: 198 | D35: =12-10.75 -> 1.25 | K35: =(D35*B35*100)-C35 -> 802 | Q35: 43887 | R35: 1 | S35: även återköpet är med i summan
A36: SWEDA0C130 | B36: 8 | C36: 198 | D36: =21-19 -> 2 | K36: =D36*B36*100-C36 -> 1402 | Q36: 43887 | R36: 1 | S36: även återköpet är med i summan
A37: OMXS300P1740 | B37: 3 | C37: 99 | D37: 112 | K37: =B37*D37*100-C37 -> 33501 | Q37: 43889 | R37: 1
K39: =SUM(K13:K38) -> 378013.19 | M39: =L39-K39 -> -378013.19
A41: Köp | B41: Antal | C41: courtage | D41: Kurs SEK | E41: kurs DKK | F41: Kurs NOK | G41: Kurs USD | H41: DKK/SEK | I41: NOK/SEK | J41: USD/SEK | K41: summa | L41: Värde | M41: Skillnad | O41: koll
A42: Inzile | B42: =TRUNC((15000-C42)/(D42),0) -> 712 | C42: 39 | D42: 21 | K42: =(B42*D42)+C42 -> 14991 | N42: 43864 | O42: 1
A43: Tele2 A | B43: =TRUNC((15000-C43)/(D43),0) -> 100 | C43: 39 | D43: 149 | K43: =(B43*D43)+C43 -> 14939 | N43: 43864 | O43: 1
...

Sheet 20200331
A1: Vikingen Portfolio
A2: Status köp/sälj 31 mars | B2: Resultat | C2: Sålt | D2: Ingående kassa | E2: Köp | F2: Utdelning | G2: UB, Kassa efter köp | I2: Totalt värde | J2: Förändring sedan start, SEK | K2: Förändring sedan start | L2: OMXS30 | M2: OMXC25 | N2: Oslo börs | O2: Nasdaq 100
A3: Förändring sedan 2 jan 2020, % | B3: =K3 -> 0.12017319 | C3: =K39 -> 0 | D3: ='20200228'!G3 -> 252038.97 | E3: =K53 -> 0 | F3: 0 | G3: =D3+C3-E3 -> 252038.97 | I3: =G3+K69 -> 252038.97 | J3: =I3-225000 -> 27038.967 | K3: =J3/225000 -> 0.12017319 | L3: 1771.9 | M3: 1253.9 | N3: 931.5 | O3: 8733.1 | P3: 43830
A4: Förändring sedan 2 jan 2020, SEK | B4: =J3 -> 27038.967 | L4: 1482.4 | M4: 1126.5 | N4: 707.1 | O4: 7813.5 | P4: ej slutkurs
A5: Totalt Värde | B5: =I3 -> 252038.97 | L5: =(L4-L3)/L3 -> -0.16338394 | M5: =(M4-M3)/M3 -> -0.101603 | N5: =(N4-N3)/N3 -> -0.24090177 | O5: =(O4-O3)/O3 -> -0.10530052
A6: Sålt | B6: =K39 -> 0
A7: Köpt | B7: =K53 -> 0
A8: Utdelning | B8: =F3 -> 0
A9: Ingående kassa | B9: =D3 -> 252038.97
A10: Utgående kassa | B10: =G3 -> 252038.97
A12: Sälj | B12: Antal | C12: courtage | D12: Kurs SEK | E12: kurs DKK | F12: Kurs NOK | G12: Kurs USD | H12: DKK/SEK | I12: NOK/SEK | J12: USD/SEK | K12: summa | L12: Värde | M12: Skillnad | N12: Kurs nu | O12: Förändring sedan sälj
A13: Inga affärer under mars. Covid-19
K39: =SUM(K13:K38) -> 0 | M39: =L39-K39 -> 0
A41: Köp | B41: Antal | C41: courtage | D41: Kurs SEK | E41: kurs DKK | F41: Kurs NOK | G41: Kurs USD | H41: DKK/SEK | I41: NOK/SEK | J41: USD/SEK | K41: summa | L41: Värde | M41: Skillnad
A42: Inga affärer under mars
K53: =SUM(K42:K52) -> 0 | M53: =L54-K53 -> 0
A56: Innehav | B56: Antal | C56: courtage | D56: Kurs SEK | E56: kurs DKK | F56: Kurs NOK | G56: kurs USD | H56: DKK/SEK | I56: NOK/SEK | J56: USD/SEK | K56: summa | L56: Värde | M56: Förändring
K57: =B57*D57*100 -> 0
K58: =B58*D58*100 -> 0
K59: =B59*D59*100 -> 0
K60: =B27*E60*H60 -> 0
K61: =B28*D61 -> 0
K62: =B29*D62 -> 0
K63: =B30*D63 -> 0
K64: =B31*D64 -> 0
K65: =B32*D65 -> 0
K66: =B33*D66 -> 0
K67: =B34*D67 -> 0
K69: =SUM(K57:K67) -> 0

Sheet 20200430
A1: Vikingen Portfolio
A2: Status köp/sälj 28 feb | B2: Resultat | C2: Sålt | D2: Ingående kassa | E2: Köp | F2: Utdelning | G2: UB, Kassa efter köp | I2: Totalt värde | J2: Förändring sedan start, SEK | K2: Förändring sedan start | L2: OMXS30 | M2: OMXC25 | N2: Oslo börs | O2: Nasdaq 100
A3: Förändring sedan 2 jan 2020, % | B3: =K3 -> 0.20091983 | C3: =K22 -> 0 | D3: ='20200228'!G3 -> 252038.97 | E3: =K40 -> 218022.21 | F3: =L59*0.7 -> 1359.4 | G3: =D3+C3-E3+F3 -> 35376.161 | I3: =G3+K59 -> 270206.96 | J3: =I3-225000 -> 45206.962 | K3: =J3/225000 -> 0.20091983 | L3: 1771.9 | M3: 1253.9 | N3: 931.5 | O3: 8733.1 | P3: 43830
A4: Förändring sedan 2 jan 2020, SEK | B4: =J3 -> 45206.962 | L4: 1577.9 | M4: 1235 | N4: 775.1 | O4: 9000.5 | P4: ej slutkurs
A5: Totalt Värde | B5: =I3 -> 270206.96 | L5: =(L4-L3)/L3 -> -0.10948699 | M5: =(M4-M3)/M3 -> -0.015072972 | N5: =(N4-N3)/N3 -> -0.16790123 | O5: =(O4-O3)/O3 -> 0.030619139
A6: Sålt | B6: =K22 -> 0
A7: Köpt | B7: =K40 -> 218022.21
A8: Utdelning | B8: =F3 -> 1359.4
A9: Ingående kassa | B9: =D3 -> 252038.97
A10: Utgående kassa | B10: =G3 -> 35376.161
A12: Sälj | B12: Antal | C12: courtage | D12: Kurs SEK | E12: kurs DKK | F12: Kurs NOK | G12: Kurs USD | H12: DKK/SEK | I12: NOK/SEK | J12: USD/SEK | K12: summa | L12: Värde | M12: Skillnad | N12: Kurs nu | O12: Förändring sedan sälj | Q12: datum
K22: =SUM(K13:K21) -> 0 | M22: =L22-K22 -> 0
A24: Köp | B24: Antal | C24: courtage | D24: Kurs SEK | E24: kurs DKK | F24: Kurs NOK | G24: Kurs USD | H24: DKK/SEK | I24: NOK/SEK | J24: USD/SEK | K24: summa | L24: Värde | M24: Skillnad
A25: ALLOT LTD - ORDINARY SHARES | B25: =TRUNC((15000-C25)/(G25*J25),0) -> 140 | C25: 49 | G25: 10.64 | J25: 10.0261 | K25: =(B25*G25*J25)+C25 -> 14983.879 | N25: 43938
A26: BIOXCEL THERAPEUTICS. INC | B26: =TRUNC((15000-C26)/(G26*J26),0) -> 50 | C26: 49 | G26: 29.37 | J26: 10.0261 | K26: =(B26*G26*J26)+C26 -> 14772.328 | N26: 43938
A27: BYGGMAX GROUP | B27: =TRUNC((15000-C27)/(D27),0) -> 472 | C27: 39 | D27: 31.64 | K27: =B27*D27+C27 -> 14973.08 | N27: 43938
A28: CITRIX SYSTEMS. INC | B28: =TRUNC((15000-C28)/(G28*J28),0) -> 9 | C28: 49 | G28: 150.41 | J28: 10.0261 | K28: =(B28*G28*J28)+C28 -> 13621.231 | N28: 43938
A29: FINGERPRINT CARDS B | B29: =TRUNC((15000-C29)/(D29),0) -> 971 | C29: 39 | D29: 15.4 | K29: =B29*D29+C29 -> 14992.4 | N29: 43938
A30: HUSQVARNA B | B30: =TRUNC((15000-C30)/(D30),0) -> 267 | C30: 39 | D30: 55.9 | K30: =B30*D30+C30 -> 14964.3 | N30: 43938
A31: MIPS | B31: =TRUNC((15000-C31)/(D31),0) -> 61 | C31: 39 | D31: 245.2 | K31: =B31*D31+C31 -> 14996.2 | N31: 43938
A32: OPTION CARE HEALTH. INC | B32: =TRUNC((15000-C32)/(G32*J32),0) -> 112 | C32: 49 | G32: 13.21 | J32: 10.0261 | K32: =(B32*G32*J32)+C32 -> 14882.815 | N32: 43938
A33: POWERCELL SWEDEN | B33: =TRUNC((15000-C33)/(D33),0) -> 55 | C33: 39 | D33: 267.8 | K33: =B33*D33+C33 -> 14768 | N33: 43938
A34: QIIWI INTERACTIVE | B34: =TRUNC((15000-C34)/(G34*J34),0) -> 30 | C34: 49 | G34: 48.6 | J34: 10.0261 | K34: =(B34*G34*J34)+C34 -> 14667.054 | N34: 43938
A35: QUIDEL CORPORATION | B35: =TRUNC((15000-C35)/(G35*J35),0) -> 13 | C35: 49 | G35: 107.87 | J35: 10.0261 | K35: =(B35*G35*J35)+C35 -> 14108.7 | N35: 43938
A36: SHOPIFY INC | B36: =TRUNC((15000-C36)/(G36*J36),0) -> 2 | C36: 49 | G36: 590.39 | J36: 10.0261 | K36: =(B36*G36*J36)+C36 -> 11887.618 | N36: 43938
A37: STILLFRONT GROUP | B37: =TRUNC((15000-C37)/(D37),0) -> 27 | C37: 39 | D37: 540 | K37: =B37*D37+C37 -> 14619 | N37: 43938
A38: STORYTEL B | B38: =TRUNC((15000-C38)/(D38),0) -> 80 | C38: 39 | D38: 185.6 | K38: =B38*D38+C38 -> 14887 | N38: 43938
A39: VITROLIFE | B39: =TRUNC((15000-C39)/(D39),0) -> 87 | C39: 39 | D39: 170.8 | K39: =B39*D39+C39 -> 14898.6 | N39: 43938
K40: =SUM(K25:K39) -> 218022.21 | M40: =L41-K40 -> -218022.21
A43: Innehav 30 april | B43: Antal | C43: courtage | D43: Kurs SEK | E43: kurs DKK | F43: Kurs NOK | G43: kurs USD | H43: DKK/SEK | I43: NOK/SEK | J43: USD/SEK | K43: summa | L43: Utdelning | M43: Förändring | Q43: Objekt | R43: Tid | S43: Diff | T43: Diff (%) | U43: Diff(%) från 2020-04-17 | V43: Senast | W43: Högsta | X43: Lägsta | Y43: Första | Z43: Volym | AA43: Volym 2
A44: ALLOT LTD - ORDINARY SHARES | B44: 140 | G44: 11.13 | J44: 9.8463 | K44: =J44*G44*B44 -> 15342.505 | Q44: ALLOT LTD - ORDINARY SHARES | R44: 43951 | S44: -0.42 | T44: -3.64 | U44: 4.61 | V44: 11.13 | W44: 11.6 | X44: 11.01 | Y44: 11.43 | Z44: 86117
A45: BIOXCEL THERAPEUTICS. INC | B45: 50 | G45: 37 | J45: 9.8463 | K45: =J45*G45*B45 -> 18215.655 | Q45: BIOXCEL THERAPEUTICS. INC | R45: 43951 | S45: 0.34 | T45: 0.93 | U45: 25.98 | V45: 37 | W45: 37.37 | X45: 34.52 | Y45: 36.56 | Z45: 398397
A46: BYGGMAX GROUP | B46: 472 | D46: 42.4 | K46: =B46*D46 -> 20012.8 | Q46: BYGGMAX GROUP | R46: 43951 | S46: -1 | T46: -2.3 | U46: 34.01 | V46: 42.4 | W46: 44.78 | X46: 42.22 | Y46: 43.5 | Z46: 1107196
A47: CITRIX SYSTEMS. INC | B47: 9 | G47: 145.01 | J47: 9.8463 | K47: =J47*G47*B47 -> 12850.308 | Q47: CITRIX SYSTEMS. INC | R47: 43951 | S47: 5.03 | T47: 3.59 | U47: -3.59 | V47: 145.01 | W47: 145.36 | X47: 140.02 | Y47: 140.57 | Z47: 2177499
A48: FINGERPRINT CARDS B | B48: 971 | D48: 15.52 | K48: =B48*D48 -> 15069.92 | L48: =B48*2 -> 1942 | Q48: FINGERPRINT CARDS B | R48: 43951 | S48: -0.19 | T48: -1.24 | U48: 0.71 | V48: 15.52 | W48: 15.77 | X48: 15.31 | Y48: 15.71 | Z48: 2614245
A49: HUSQVARNA B | B49: 267 | D49: 59.16 | K49: =B49*D49 -> 15795.72 | Q49: HUSQVARNA B | R49: 43951 | S49: -2.58 | T49: -4.18 | U49: 5.83 | V49: 59.16 | W49: 62.04 | X49: 59.16 | Y49: 61.84 | Z49: 1416224
A50: MIPS | B50: 61 | D50: 247 | K50: =B50*D50 -> 15067 | Q50: MIPS | R50: 43951 | S50: 0.8 | T50: 0.32 | U50: 0.73 | V50: 247 | W50: 249.6 | X50: 240 | Y50: 243 | Z50: 56031
A51: OPTION CARE HEALTH. INC | B51: 112 | G51: 14.3 | J51: 9.8463 | K51: =J51*G51*B51 -> 15769.834 | Q51: OPTION CARE HEALTH. INC | R51: 43951 | S51: -0.34 | T51: -2.32 | U51: 8.25 | V51: 14.3 | W51: 14.77 | X51: 14 | Y51: 14.38 | Z51: 167353
A52: POWERCELL SWEDEN | B52: 55 | D52: 252.4 | K52: =B52*D52 -> 13882 | Q52: POWERCELL SWEDEN | R52: 43951 | S52: 4.6 | T52: 1.86 | U52: -5.75 | V52: 252.4 | W52: 261 | X52: 248.4 | Y52: 253.8 | Z52: 181433
A53: QIIWI INTERACTIVE | B53: 30 | G53: 56.2 | J53: 9.8463 | K53: =J53*G53*B53 -> 16600.862 | Q53: QIIWI INTERACTIVE | R53: 43951 | S53: 0.6 | T53: 1.08 | U53: 15.64 | V53: 56.2 | W53: 57 | X53: 55 | Y53: 55.8 | Z53: 11301
...

Sheet 20200531
A1: Vikingen Portfolio
A2: Status köp/sälj 14 maj | B2: Resultat | C2: Sålt | D2: Ingående kassa | E2: Köp | F2: Utdelning | G2: UB, Kassa efter köp | K2: Totalt värde | L2: Förändring sedan start, SEK | M2: Förändring sedan start | N2: OMXS30 | O2: OMXC25 | P2: Oslo börs | Q2: Nasdaq 100 | R2: Datum
A3: Förändring sedan 2 jan 2020, % | B3: =M3 -> 0.31047468 | C3: =M28 -> 135875.53 | D3: ='20200430'!G3 -> 35376.161 | E3: =M42 -> 138975.55 | F3: =N61*0.7 -> 954.1 | G3: =D3+C3-E3+F3 -> 33230.24 | K3: =G3+M61 -> 294856.8 | L3: =K3-225000 -> 69856.804 | M3: =L3/225000 -> 0.31047468 | N3: 1771.9 | O3: 1253.9 | P3: 931.5 | Q3: 8733.1 | R3: 43830
A4: Förändring sedan 2 jan 2020, SEK | B4: =L3 -> 69856.804 | N4: 1639.76 | O4: 1334.7 | P4: 793.9 | Q4: 9416.71 | R4: 2020-05-29 kl 13 Nasdaq 28 maj
A5: Totalt Värde | B5: =K3 -> 294856.8 | N5: =(N4-N3)/N3 -> -0.074575315 | O5: =(O4-O3)/O3 -> 0.06443895 | P5: =(P4-P3)/P3 -> -0.14771873 | Q5: =(Q4-Q3)/Q3 -> 0.078278046
A6: Sålt | B6: =M28 -> 135875.53
A7: Köpt | B7: =M42 -> 138975.55
A8: Utdelning | B8: =F3 -> 954.1
A9: Ingående kassa | B9: =D3 -> 35376.161
A10: Utgående kassa | B10: =G3 -> 33230.24
A12: Sälj | B12: Antal | C12: courtage | D12: Kurs SEK | E12: kurs DKK | F12: Kurs NOK | G12: Kurs USD | H12: Kurs EUR | I12: EUR/SEK | J12: DKK/SEK | K12: NOK/SEK | L12: USD/SEK | M12: summa | N12: Utdelning | O12: Skillnad | P12: Kurs nu | Q12: Förändring sedan sälj
A13: ALLOT LTD - ORDINARY SHARES | B13: 140 | C13: 49 | G13: 10.95 | L13: 9.786 | M13: =(B13*G13*L13)-C13 -> 14952.938 | S13: 43964
A14: QUIDEL CORPORATION | B14: 13 | C14: 49 | G14: 178.6 | L14: 9.786 | M14: =(B14*G14*L14)-C14 -> 22672.135 | S14: 43964
A15: Husqvarna | B15: 267 | C15: 39 | D15: 55.66 | M15: =B15*D15-C15 -> 14822.22 | S15: 43965
A16: Fingerprint | B16: 971 | C16: 39 | D16: 15.73 | M16: =B16*D16-C16 -> 15234.83 | S16: 43965
A17: Qiiwi Interactive | B17: 30 | C17: 49 | G17: 58.4 | L17: 9.8386 | M17: =(B17*G17*L17)-C17 -> 17188.227 | S17: 43965
A18: Vitrolife | B18: 87 | C18: 39 | D18: 170.8 | M18: =B18*D18-C18 -> 14820.6 | S18: 43965
A19: BIOXCEL THERAPEUTICS. INC | B19: 50 | C19: 49 | G19: 50.3 | L19: 9.6703 | M19: =(B19*G19*L19)-C19 -> 24271.804 | S19: 43971
A20: CITRIX SYSTEMS. INC | B20: 9 | C20: 49 | G20: 137.44 | L20: 9.6703 | M20: =(B20*G20*L20)-C20 -> 11912.774
M28: =SUM(M13:M27) -> 135875.53 | N28: =SUM(N13:N27) -> 0 | O28: =N28-M28 -> -135875.53
A30: Köp | B30: Antal | C30: courtage | D30: Kurs SEK | E30: kurs DKK | F30: Kurs NOK | G30: Kurs USD | H30: Kurs EUR | I30: EUR/SEK | J30: DKK/SEK | K30: NOK/SEK | L30: USD/SEK | M30: summa | N30: Värde | O30: Skillnad
A31: ROCKWOOL INTERNATIONAL A | B31: =TRUNC((20000-C31)/(E31*J31),0) -> 8 | C31: 49 | E31: 1686 | J31: 1.415237 | M31: =B31*J31*E31+C31 -> 19137.717 | P31: 43978
A32: BICYCLETHERAPEUTICSPLCAMERICAN | B32: =TRUNC((20000-C32)/(G32*L32),0) -> 125 | C32: 49 | G32: 16.51 | L32: 9.6344 | M32: =B32*G32*L32+C32 -> 19931.993 | P32: 43978
A33: KANCERA | B33: =TRUNC((20000-C33)/(D33),0) -> 12961 | C33: 39 | D33: 1.54 | M33: =B33*D33+C33 -> 19998.94 | P33: 43978
A34: LEOVEGAS | B34: =TRUNC((20000-C34)/(D34),0) -> 475 | C34: 39 | D34: 41.98 | M34: =B34*D34+C34 -> 19979.5 | P34: 43978
A35: CELLINK B | B35: =TRUNC((20000-C35)/(D35),0) -> 137 | C35: 39 | D35: 145.6 | M35: =B35*D35+C35 -> 19986.2 | P35: 43978
A36: BYGGHEMMA | B36: =TRUNC((20000-C36)/(D36),0) -> 252 | C36: 39 | D36: 79.1 | M36: =B36*D36+C36 -> 19972.2 | P36: 43978
A37: SUOMINEN | B37: =TRUNC((20000-C37)/(H37*I37),0) -> 547 | C37: 49 | H37: 3.45 | I37: 10.5556 | M37: =B37*H37*I37+C37 -> 19969.001 | P37: 43978
M42: =SUM(M31:M41) -> 138975.55 | O42: =N43-M42 -> -138975.55
A45: Innehav | B45: Antal | C45: courtage | D45: Kurs SEK | E45: kurs DKK | F45: Kurs NOK | G45: kurs USD | H45: Kurs EUR | I45: EUR/SEK | J45: DKK/SEK | K45: NOK/SEK | L45: USD/SEK | M45: summa | N45: Utdelning | O45: Förändring
A46: BYGGMAX GROUP | B46: 472 | D46: 47.6 | M46: =B46*D46 -> 22467.2 | N46: =B46*2.5 -> 1180 | P46: 43980
A47: MIPS | B47: 61 | D47: 318.2 | M47: =B47*D47 -> 19410.2 | N47: =B47*3 -> 183 | P47: 43980
A48: OPTION CARE HEALTH. INC | B48: 112 | G48: 14.99 | L48: 9.4682 | M48: =B48*G48*L48 -> 15895.972 | P48: 43980
A49: POWERCELL SWEDEN | B49: 55 | D49: 263.4 | M49: =B49*D49 -> 14487 | P49: 43980
A50: SHOPIFY INC | B50: 2 | G50: 744.43 | L50: 9.4682 | M50: =B50*G50*L50 -> 14096.824 | P50: 43980
A51: STILLFRONT GROUP | B51: 27 | D51: 675 | M51: =B51*D51 -> 18225 | P51: 43980
A52: STORYTEL B | B52: 80 | D52: 192 | M52: =B52*D52 -> 15360 | P52: 43980
A53: ROCKWOOL INTERNATIONAL A | B53: 8 | E53: 1712 | J53: 1.410847 | M53: =B53*E53*J53 -> 19322.961 | P53: 43980
A54: BICYCLETHERAPEUTICSPLCAMERICAN | B54: 125 | G54: 18.14 | L54: 9.4682 | M54: =B54*G54*L54 -> 21469.143 | P54: 43980
A55: KANCERA | B55: 12961 | D55: 1.68 | M55: =B55*D55 -> 21774.48 | P55: 43980
...

Sheet 20200630
A1: Vikingen Portfolio
A2: Status köp/sälj 30 juni | B2: Resultat | C2: Sålt | D2: Ingående kassa | E2: Köp | F2: Utdelning | G2: UB, Kassa efter köp | H2: Totalt värde | I2: Förändring sedan start, SEK | J2: Förändring sedan start | K2: OMXS30 | L2: OMXC25 | M2: Oslo börs | N2: Nasdaq 100 | O2: Datum
A3: Förändring sedan 2 jan 2020, % | B3: =J3 -> 0.37481321 | C3: =M29 -> 68474.5 | D3: ='20200531'!G3 -> 33230.24 | E3: =M43 -> 98454.164 | F3: 0 | G3: =D3+C3-E3 -> 3250.5757 | H3: =G3+M63 -> 309332.97 | I3: =H3-225000 -> 84332.973 | J3: =I3/225000 -> 0.37481321 | K3: 1771.9 | L3: 1253.9 | M3: 931.5 | N3: 8733.1 | O3: 43830
A4: Förändring sedan 2 jan 2020, SEK | B4: =I3 -> 84332.973 | K4: 1664.4 | L4: 1347.9 | M4: 795.2 | N4: 10156.9 | O4: 44012
A5: Totalt Värde | B5: =H3 -> 309332.97 | K5: =(K4-K3)/K3 -> -0.060669338 | L5: =(L4-L3)/L3 -> 0.074966106 | M5: =(M4-M3)/M3 -> -0.14632313 | N5: =(N4-N3)/N3 -> 0.16303489
A6: Sålt | B6: =M29 -> 68474.5
A7: Köpt | B7: =M43 -> 98454.164
A8: Utdelning | B8: ='20200531'!F3+'20200430'!F3 -> 2313.5
A9: Ingående kassa | B9: =D3 -> 33230.24
A10: Utgående kassa | B10: =G3 -> 3250.5757
A12: Sälj | B12: Antal | C12: courtage | D12: Kurs SEK | E12: kurs DKK | F12: Kurs NOK | G12: Kurs USD | H12: DKK/SEK | I12: Kurs EUR | J12: EUR/SEK | K12: NOK/SEK | L12: USD/SEK | M12: summa
A13: KANCERA | B13: 12961 | C13: 39 | D13: 2.5 | M13: =(D13*B13)-C13 -> 32363.5 | N13: 44008 | T13: =2.64/1.54 -> 1.7142857
A14: LEOVEGAS | B14: 475 | C14: 39 | D14: 41 | M14: =(D14*B14)-C14 -> 19436 | N14: 44008
A15: CELLINK B | B15: 137 | C15: 39 | D15: 122 | M15: =(D15*B15)-C15 -> 16675 | N15: 44008
M29: =SUM(M13:M28) -> 68474.5
A31: Köp | B31: Antal | C31: courtage | D31: Kurs SEK | E31: kurs DKK | F31: Kurs NOK | G31: Kurs USD | H31: DKK/SEK | I31: Kurs EUR | J31: EUR/SEK | K31: NOK/SEK | L31: USD/SEK | M31: summa
A32: PRICER B | B32: =TRUNC((20000-C32)/(D32),0) -> 856 | C32: 39 | D32: 23.3 | M32: =(B32*D32)+C32 -> 19983.8 | N32: 44008
A33: SINCH | B33: =TRUNC((20000-C33)/(D33),0) -> 25 | C33: 39 | D33: 779 | M33: =(B33*D33)+C33 -> 19514 | N33: 44008
A34: CREADES A | B34: =TRUNC((20000-C34)/(D34),0) -> 30 | C34: 39 | D34: 651 | M34: =(B34*D34)+C34 -> 19569 | N34: 44008
A35: EMBRACER GROUP B | B35: =TRUNC((20000-C35)/(D35),0) -> 152 | C35: 39 | D35: 131 | M35: =(B35*D35)+C35 -> 19951 | N35: 44008
A36: NETCOMPANY | B36: =TRUNC((20000-C36)/(E36*H36),0) -> 32 | C36: 49 | E36: 431.8 | H36: 1.403092 | M36: =(B36*E36*H36)+C36 -> 19436.364 | N36: 44008
M43: =SUM(M32:M42) -> 98454.164
A46: Innehav | B46: Antal | D46: Kurs SEK | E46: kurs DKK | F46: Kurs NOK | G46: kurs USD | H46: DKK/SEK | I46: Kurs EUR | J46: EUR/SEK | K46: NOK/SEK | L46: USD/SEK | M46: summa
A47: PRICER B | B47: 856 | D47: 24.4 | M47: =B47*D47 -> 20886.4
A48: SINCH | B48: 25 | D48: 797 | M48: =B48*D48 -> 19925
A49: CREADES A | B49: 30 | D49: 640 | M49: =B49*D49 -> 19200
A50: EMBRACER GROUP B | B50: 152 | D50: 130.55 | M50: =B50*D50 -> 19843.6
A51: NETCOMPANY | B51: 32 | E51: 435 | H51: 1.4063 | M51: =B51*E51*H51 -> 19575.696
A52: ROCKWOOL INTERNATIONAL A | B52: 8 | E52: 1616 | H52: 1.4063 | M52: =B52*E52*H52 -> 18180.646 | P52: 140.63 | Q52: 10.4804 | R52: 9.349
A53: BICYCLETHERAPEUTICSPLCAMERICAN | B53: 125 | G53: 15.74 | L53: 9.349 | M53: =B53*G53*L53 -> 18394.158
A54: BHG Group | B54: 252 | D54: 82 | M54: =B54*D54 -> 20664
A55: SUOMINEN | B55: 547 | I55: 3.87 | J55: 10.4804 | M55: =B55*I55*J55 -> 22185.854
A56: BYGGMAX GROUP | B56: 472 | D56: 43.86 | M56: =B56*D56 -> 20701.92
A57: MIPS | B57: 61 | D57: 321.4 | M57: =B57*D57 -> 19605.4
A58: OPTION CARE HEALTH. INC | B58: 112 | G58: 13.88 | L58: 9.349 | M58: =B58*G58*L58 -> 14533.581
A59: POWERCELL SWEDEN | B59: 55 | D59: 305.6 | M59: =B59*D59 -> 16808
A60: SHOPIFY INC | B60: 2 | G60: 949.2 | L60: 9.349 | M60: =B60*G60*L60 -> 17748.142
A61: STILLFRONT GROUP | B61: 27 | D61: 834 | M61: =B61*D61 -> 22518
A62: STORYTEL B | B62: 80 | D62: 191.4 | M62: =B62*D62 -> 15312
M63: =SUM(M47:M62) -> 306082.4 | N63: Summa innehav

Sheet 20200731
A1: Vikingen Portfolio | B1: 44043
A2: Status köp/sälj juli | B2: Resultat | C2: Sålt | D2: Ingående kassa | E2: Köp | F2: Utdelning | G2: UB, Kassa efter köp | H2: Totalt värde | I2: Förändring sedan start, SEK | J2: Förändring sedan start | K2: OMXS30 | L2: OMXC25 | M2: Oslo börs | N2: Nasdaq 100 | O2: Datum
A3: Förändring sedan 2 jan 2020, % | B3: =J3 -> 0.4158486 | C3: =M29 -> 176148.21 | D3: ='20200630'!G3 -> 3250.5757 | E3: =M43 -> 99705.257 | F3: =O59 -> 105 | G3: =D3+C3-E3+F3 -> 79798.529 | H3: =G3+M59 -> 318565.94 | I3: =H3-225000 -> 93565.936 | J3: =I3/225000 -> 0.4158486 | K3: 1771.9 | L3: 1253.9 | M3: 931.5 | N3: 8733.1 | O3: 43830
A4: Förändring sedan 2 jan 2020, SEK | B4: =I3 -> 93565.936 | K4: 1707.4 | L4: 1423.6 | M4: 826.2 | N4: 10905.9 | O4: 44043
A5: Totalt Värde | B5: =H3 -> 318565.94 | K5: =(K4-K3)/K3 -> -0.036401603 | L5: =(L4-L3)/L3 -> 0.13533775 | M5: =(M4-M3)/M3 -> -0.11304348 | N5: =(N4-N3)/N3 -> 0.24880054
A6: Sålt | B6: =M29 -> 176148.21
A7: Köpt | B7: =M43 -> 99705.257
A8: Utdelning | B8: =F3 -> 105
A9: Ingående kassa | B9: =D3 -> 3250.5757
A10: Utgående kassa | B10: =G3 -> 79798.529
A12: Sälj | B12: Antal | C12: courtage | D12: Kurs SEK | E12: kurs DKK | F12: Kurs NOK | G12: Kurs USD | H12: DKK/SEK | I12: Kurs EUR | J12: EUR/SEK | K12: NOK/SEK | L12: USD/SEK | M12: summa
A13: BICYCLETHERAPEUTICSPLCAMERICAN | B13: 125 | C13: 49 | G13: 15.51 | L13: 9.334 | M13: =G13*B13*L13-C13 -> 18047.292 | N13: 44018
A14: OPTION CARE HEALTH. INC | B14: 112 | C14: 49 | G14: 12.9 | L14: 9.334 | M14: =G14*B14*L14-C14 -> 13436.763 | N14: 44018
A15: Sinch | B15: 25 | C15: 39 | D15: 793 | M15: =B15*D15-C15 -> 19786 | N15: 44025
A16: Pricer | B16: 856 | C16: 39 | D16: 24.5 | M16: =B16*D16-C16 -> 20933 | N16: 44025
A17: Shopify | B17: 2 | C17: 49 | G17: 974.4 | L17: 9.1894 | M17: =G17*B17*L17-C17 -> 17859.303 | N17: 44026
A18: POWERCELL SWEDEN | B18: 55 | C18: 39 | D18: 255 | M18: =B18*D18-C18 -> 13986 | N18: 44043
A19: Nattopharma | B19: 965 | C19: 49 | F19: 18.2 | K19: 0.957588 | M19: =K19*F19*B19-C19 -> 16769.118 | N19: 44043
A20: NETCOMPANY | B20: 32 | C20: 49 | E20: 454 | H20: 1.382918 | M20: =H20*E20*B20-C20 -> 20042.033 | N20: 44043
A21: Better Collection | B21: 99 | C21: 49 | E21: 124 | H21: 1.382918 | M21: =H21*E21*B21-C21 -> 16927.701 | N21: 44043
A22: STORYTEL B | B22: 80 | C22: 39 | D22: 230 | M22: =B22*D22-C22 -> 18361 | N22: 44043
M29: =SUM(M13:M28) -> 176148.21
A31: Köp | B31: Antal | C31: courtage | D31: Kurs SEK | E31: kurs DKK | F31: Kurs NOK | G31: Kurs USD | H31: DKK/SEK | I31: Kurs EUR | J31: EUR/SEK | K31: NOK/SEK | L31: USD/SEK | M31: summa
A32: Global Gaming 555 | B32: =TRUNC((20000-C32)/(D32),0) -> 2595 | C32: 39 | D32: 7.69 | M32: =(B32*D32)+C32 -> 19994.55 | N32: 44025
A33: New Education | B33: =TRUNC((20000-C33)/(G33*L33),0) -> 15 | C33: 49 | G33: 144.3 | L33: 9.182 | M33: =L33*G33*B33+C33 -> 19923.439 | N33: 44025
A34: Better Collection | B34: =TRUNC((20000-C34)/(E34*H34),0) -> 99 | C34: 49 | E34: 143 | H34: 1.395877 | M34: =H34*E34*B34+C34 -> 19810.431 | N34: 44025
A35: Nattopharma | B35: =TRUNC((20000-C35)/(F35*K35),0) -> 965 | C35: 49 | F35: 21.2 | K35: 0.974623 | M35: =K35*F35*B35+C35 -> 19987.837 | N35: 44025
A36: Volati | B36: =TRUNC((20000-C36)/(D36),0) -> 380 | C36: 39 | D36: 52.5 | M36: =(B36*D36)+C36 -> 19989 | N36: 44026
M43: =SUM(M32:M42) -> 99705.257
A46: Innehav | B46: Antal | D46: Kurs SEK | E46: kurs DKK | F46: Kurs NOK | G46: kurs USD | H46: DKK/SEK | I46: Kurs EUR | J46: EUR/SEK | K46: NOK/SEK | L46: USD/SEK | M46: summa | O46: utdelning
A47: Global Gaming 555 | B47: 2595 | D47: 7.3 | M47: =B47*D47 -> 18943.5
A48: New oriental Education | B48: 15 | G48: 140.2 | L48: 8.6536 | M48: =L48*G48*B48 -> 18198.521
A49: CREADES A | B49: 30 | D49: 677 | M49: =B49*D49 -> 20310 | O49: =B49*3.5 -> 105
A50: EMBRACER GROUP B | B50: 152 | D50: 140.95 | M50: =B50*D50 -> 21424.4
A51: Volati | B51: 380 | D51: 56.5 | M51: =B51*D51 -> 21470
A52: ROCKWOOL INTERNATIONAL A | B52: 8 | E52: 1850 | H52: 1.382918 | M52: =B52*E52*H52 -> 20467.186
A53: BHG Group | B53: 252 | D53: 108.8 | M53: =B53*D53 -> 27417.6
A54: SUOMINEN | B54: 547 | I54: 4.03 | J54: 10.2946 | M54: =B54*I54*J54 -> 22693.519
A55: BYGGMAX GROUP | B55: 472 | D55: 47.34 | M55: =B55*D55 -> 22344.48
A56: MIPS | B56: 61 | D56: 369.2 | M56: =B56*D56 -> 22521.2
...

Sheet 20200831
A1: Vikingen Portfolio
A2: Status köp/sälj - 31 augusti 2020 | B2: Resultat | C2: Sålt | D2: Ingående kassa | E2: Köp | F2: Utdelning | G2: UB, Kassa efter köp | H2: Totalt värde | I2: Förändring sedan start, SEK | J2: Förändring sedan start | K2: OMXS30 | L2: OMXC25 | M2: Oslo börs | N2: Nasdaq 100 | O2: Datum
A3: Förändring sedan 2 jan 2020, % | B3: =J3 -> 0.50422136 | C3: =M29 -> 258651.28 | D3: ='20200731'!G3 -> 79798.529 | E3: =M43 -> 0 | F3: 0 | G3: =D3+C3-E3 -> 338449.81 | H3: =G3+M63 -> 338449.81 | I3: =H3-225000 -> 113449.81 | J3: =I3/225000 -> 0.50422136 | K3: 1771.9 | L3: 1253.9 | M3: 931.5 | N3: 8733.1 | O3: 43830
A4: Förändring sedan 2 jan 2020, SEK | B4: =I3 -> 113449.81 | K4: 1664.4 | L4: 1347.9 | M4: 795.2 | N4: 10156.9 | O4: 44012
A5: Totalt Värde | B5: =H3 -> 338449.81 | K5: =(K4-K3)/K3 -> -0.060669338 | L5: =(L4-L3)/L3 -> 0.074966106 | M5: =(M4-M3)/M3 -> -0.14632313 | N5: =(N4-N3)/N3 -> 0.16303489
A6: Sålt | B6: =M29 -> 258651.28
A7: Köpt | B7: =M43 -> 0
A8: Utdelning | B8: =F3 -> 0
A9: Ingående kassa | B9: =D3 -> 79798.529
A10: Utgående kassa | B10: =G3 -> 338449.81
A12: Sälj | B12: Antal | C12: courtage | D12: Kurs SEK | E12: kurs DKK | F12: Kurs NOK | G12: Kurs USD | H12: DKK/SEK | I12: Kurs EUR | J12: EUR/SEK | K12: NOK/SEK | L12: USD/SEK | M12: summa
A13: Global Gaming 555 | B13: 2595 | C13: 39 | D13: 8.85 | M13: =(D13*B13)-C13 -> 22926.75 | N13: 44063
A14: New oriental Education | B14: 15 | C14: 49 | G14: 136 | L14: 8.7018 | M14: =(G14*B14*L14)-C14 -> 17702.672 | N14: 44063
A15: CREADES A | B15: 30 | C15: 39 | D15: 803 | M15: =(D15*B15)-C15 -> 24051 | N15: 44063
A16: EMBRACER GROUP B | B16: 152 | C16: 39 | D16: 166.9 | M16: =(D16*B16)-C16 -> 25329.8 | N16: 44063
A17: Volati | B17: 380 | C17: 39 | D17: 58.2 | M17: =(D17*B17)-C17 -> 22077 | N17: 44063
A18: ROCKWOOL INTERNATIONAL A | B18: 8 | C18: 49 | E18: 2000 | H18: 1.386798 | M18: =(B18*E18*H18)-C18 -> 22139.768 | N18: 44063
A19: BHG Group | B19: 252 | C19: 39 | D19: 106.4 | M19: =(D19*B19)-C19 -> 26773.8 | N19: 44063
A20: SUOMINEN | B20: 547 | C20: 49 | I20: 4.89 | J20: 10.3251 | M20: =(B20*I20*J20)-C20 -> 27568.887 | N20: 44063
A21: BYGGMAX GROUP | B21: 472 | C21: 39 | D21: 51 | M21: =(D21*B21)-C21 -> 24033 | N21: 44063
A22: MIPS | B22: 61 | C22: 39 | D22: 355.6 | M22: =(D22*B22)-C22 -> 21652.6 | N22: 44063
A23: STILLFRONT GROUP | B23: 27 | C23: 39 | D23: 905 | M23: =(D23*B23)-C23 -> 24396
M29: =SUM(M13:M28) -> 258651.28
A31: Köp | B31: Antal | C31: courtage | D31: Kurs SEK | E31: kurs DKK | F31: Kurs NOK | G31: Kurs USD | H31: DKK/SEK | I31: Kurs EUR | J31: EUR/SEK | K31: NOK/SEK | L31: USD/SEK | M31: summa
M32: =(B32*D32)-C32 -> 0
M33: =(B33*D33)-C33 -> 0
M34: =(B34*D34)-C34 -> 0
M35: =(B35*D35)-C35 -> 0
M36: =(B36*E36*H36)-C36 -> 0
M43: =SUM(M32:M42) -> 0
A46: Innehav | B46: Antal | D46: Kurs SEK | E46: kurs DKK | F46: Kurs NOK | G46: kurs USD | H46: DKK/SEK | I46: Kurs EUR | J46: EUR/SEK | K46: NOK/SEK | L46: USD/SEK | M46: summa
M63: =SUM(M47:M62) -> 0 | N63: Summa innehav

Sheet 20200930
A1: Vikingen Portfolio
A2: Status köp/sälj - 29 september 2020 | B2: Resultat | C2: Sålt | D2: Ingående kassa | E2: Köp | F2: Utdelning | G2: UB, Kassa efter köp | H2: Totalt värde | I2: Förändring sedan start, SEK | J2: Förändring sedan start | K2: OMXS30 | L2: OMXC25 | M2: Oslo börs | N2: Nasdaq 100 | O2: Datum
A3: Förändring sedan 2 jan 2020, % | B3: =J3 -> 0.50422136 | C3: =M29 -> 0 | D3: ='20200831'!G3 -> 338449.81 | E3: =M43 -> 0 | F3: 0 | G3: =D3+C3-E3 -> 338449.81 | H3: =G3+M63 -> 338449.81 | I3: =H3-225000 -> 113449.81 | J3: =I3/225000 -> 0.50422136 | K3: 1771.9 | L3: 1253.9 | M3: 931.5 | N3: 8733.1 | O3: 43830
A4: Förändring sedan 2 jan 2020, SEK | B4: =I3 -> 113449.81 | K4: 1829.4 | L4: 1508.4 | M4: 856.1 | N4: 11418.1 | O4: 30 sept 2020
A5: Totalt Värde | B5: =H3 -> 338449.81 | K5: =(K4-K3)/K3 -> 0.032451041 | L5: =(L4-L3)/L3 -> 0.20296674 | M5: =(M4-M3)/M3 -> -0.080944713 | N5: =(N4-N3)/N3 -> 0.30745096 | O5: Diff
A6: Sålt | B6: =M29 -> 0
A7: Köpt | B7: =M43 -> 0
A8: Utdelning | B8: =F3 -> 0
A9: Ingående kassa | B9: =D3 -> 338449.81
A10: Utgående kassa | B10: =G3 -> 338449.81
A12: Sälj | B12: Antal | C12: courtage | D12: Kurs SEK | E12: kurs DKK | F12: Kurs NOK | G12: Kurs USD | H12: DKK/SEK | I12: Kurs EUR | J12: EUR/SEK | K12: NOK/SEK | L12: USD/SEK | M12: summa
M13: =(D13*B13)-C13 -> 0
M14: =(G14*B14*L14)-C14 -> 0
M15: =(D15*B15)-C15 -> 0
M16: =(D16*B16)-C16 -> 0
M17: =(D17*B17)-C17 -> 0
M18: =(B18*E18*H18)-C18 -> 0
M19: =(D19*B19)-C19 -> 0
M20: =(B20*I20*J20)-C20 -> 0
M21: =(D21*B21)-C21 -> 0
M22: =(D22*B22)-C22 -> 0
M23: =(D23*B23)-C23 -> 0
M29: =SUM(M13:M28) -> 0
A31: Köp | B31: Antal | C31: courtage | D31: Kurs SEK | E31: kurs DKK | F31: Kurs NOK | G31: Kurs USD | H31: DKK/SEK | I31: Kurs EUR | J31: EUR/SEK | K31: NOK/SEK | L31: USD/SEK | M31: summa
M32: =(B32*D32)-C32 -> 0
M33: =(B33*D33)-C33 -> 0
M34: =(B34*D34)-C34 -> 0
M35: =(B35*D35)-C35 -> 0
M36: =(B36*E36*H36)-C36 -> 0
M43: =SUM(M32:M42) -> 0
A46: Innehav | B46: Antal | D46: Kurs SEK | E46: kurs DKK | F46: Kurs NOK | G46: kurs USD | H46: DKK/SEK | I46: Kurs EUR | J46: EUR/SEK | K46: NOK/SEK | L46: USD/SEK | M46: summa
M63: =SUM(M47:M62) -> 0 | N63: Summa innehav

Sheet 20201031
A1: Vikingen Portfolio
A2: Status köp/sälj - 30 oktober 2020 | B2: Resultat | C2: Sålt | D2: Ingående kassa | E2: Köp | F2: Utdelning | G2: UB, Kassa efter köp | H2: Totalt värde | I2: Förändring sedan start, SEK | J2: Förändring sedan start | K2: OMXS30 | L2: OMXC25 | M2: Oslo börs | N2: Nasdaq 100 | O2: Datum
A3: Förändring sedan 2 jan 2020, % | B3: =J3 -> 0.50612175 | C3: =M29 -> 122688.92 | D3: ='20200930'!G3 -> 338449.81 | E3: =M52 -> 392274.5 | F3: =O73 -> 80.5 | G3: =D3+C3-E3+F3 -> 68944.733 | H3: =G3+M73 -> 338877.39 | I3: =H3-225000 -> 113877.39 | J3: =I3/225000 -> 0.50612175 | K3: 1771.9 | L3: 1253.9 | M3: 931.5 | N3: 8733.1 | O3: 43830
A4: Förändring sedan 2 jan 2020, SEK | B4: =I3 -> 113877.39 | K4: 1717.62 | L4: 1485.11 | M4: 811.85 | N4: 11052.95 | O4: 44134
A5: Totalt Värde | B5: =H3 -> 338877.39 | K5: =(K4-K3)/K3 -> -0.030633783 | L5: =(L4-L3)/L3 -> 0.18439269 | M5: =(M4-M3)/M3 -> -0.12844874 | N5: =(N4-N3)/N3 -> 0.26563878 | O5: Diff
A6: Sålt | B6: =M29 -> 122688.92
A7: Köpt | B7: =M52 -> 392274.5
A8: Utdelning | B8: =F3 -> 80.5
A9: Ingående kassa | B9: =D3 -> 338449.81
A10: Utgående kassa | B10: =G3 -> 68944.733
A12: Sälj | B12: Antal | C12: courtage | D12: Kurs SEK | E12: kurs DKK | F12: Kurs NOK | G12: Kurs USD | H12: DKK/SEK | I12: Kurs EUR | J12: EUR/SEK | K12: NOK/SEK | L12: USD/SEK | M12: summa
A13: DECKERS OUTDOOR CORPORATION | B13: 9 | C13: 49 | G13: 247.72 | L13: 8.9396 | M13: =(B13*G13*L13)-C13 -> 19881.659 | N13: 44126
A14: PLATZER FASTIGHETER HOLDING B | B14: 208 | C14: 39 | D14: 92.6 | M14: =(B14*D14)-C14 -> 19221.8 | N14: 44126
A15: BYGGMAX GROUP | B15: 361 | C15: 39 | D15: 44.26 | M15: =(D15*B15)-C15 -> 15938.86 | N15: 44132
A16: VOLATI | B16: =TRUNC((20000-C16)/(D16),0) -> 275 | C16: 39 | D16: 72.5 | M16: =(D16*B16)-C16 -> 19898.5 | N16: 44132
A17: DIGIMARC CORPORATION | B17: 81 | C17: 49 | G17: 29.65 | L17: 8.7537 | M17: =(G17*B17*L17)-C17 -> 20974.324 | N17: 44131
A18: WESTWATER RESOURCES. INC | B18: 753 | C18: 49 | G18: 4.06 | L18: 8.7737 | M18: =(G18*B18*L18)-C18 -> 26773.78 | N18: 44132
M19: =(D19*B19)-C19 -> 0
M20: =(B20*I20*J20)-C20 -> 0
M21: =(D21*B21)-C21 -> 0
M22: =(D22*B22)-C22 -> 0
M23: =(D23*B23)-C23 -> 0
M29: =SUM(M13:M28) -> 122688.92 | N29: =M29/6 -> 20448.154
A31: Köp | B31: Antal | C31: courtage | D31: Kurs SEK | E31: kurs DKK | F31: Kurs NOK | G31: Kurs USD | H31: DKK/SEK | I31: Kurs EUR | J31: EUR/SEK | K31: NOK/SEK | L31: USD/SEK | M31: summa
A32: BHG GROUP | B32: =TRUNC((20000-C32)/(D32),0) -> 159 | C32: 39 | D32: 125.4 | M32: =(B32*D32)+C32 -> 19977.6 | N32: 44105
A33: BYGGMAX GROUP | B33: =TRUNC((20000-C33)/(D33),0) -> 361 | C33: 39 | D33: 55.2 | M33: =(B33*D33)+C33 -> 19966.2 | N33: 44105
A34: CREADES A | B34: =TRUNC((20000-C34)/(D34),0) -> 23 | C34: 39 | D34: 857 | M34: =(B34*D34)+C34 -> 19750 | N34: 44105
A35: VOLATI | B35: =TRUNC((20000-C35)/(D35),0) -> 276 | C35: 39 | D35: 72.3 | M35: =(B34*D34)+C34 -> 19750 | N35: 44105
A36: DECKERS OUTDOOR CORPORATION | B36: =TRUNC((20000-C36)/(G36*L36),0) -> 9 | C36: 49 | G36: 235.6 | L36: 8.9396 | M36: =(L36*G36*B36)+C36 -> 19004.528 | N36: 44105
A37: BANG & OLUFSEN | B37: =TRUNC((20000-C37)/(E37*H37),0) -> 887 | C37: 49 | E37: 15.95 | H37: 1.410039 | M37: =(H37*E37*B37)+C37 -> 19997.738 | N37: 44105
A38: PLATZER FASTIGHETER HOLDING B | B38: =TRUNC((20000-C38)/(D38),0) -> 208 | C38: 39 | D38: 95.8 | M38: =(B38*D38)+C38 -> 19965.4 | N38: 44105
A39: BONESUPPORT | B39: =TRUNC((20000-C39)/(D39),0) -> 290 | C39: 39 | D39: 68.8 | M39: =(B39*D39)+C39 -> 19991 | N39: 44105
A40: DIGIMARC CORPORATION | B40: =TRUNC((20000-C40)/(G40*L40),0) -> 81 | C40: 49 | G40: 27.47 | L40: 8.9396 | M40: =(L40*G40*B40)+C40 -> 19940.236 | N40: 44105
A41: WESTWATER RESOURCES. INC | B41: =TRUNC((20000-C41)/(G41*L41),0) -> 753 | C41: 49 | G41: 2.96 | L41: 8.9396 | M41: =(L41*G41*B41)+C41 -> 19974.296 | N41: 44105
A42: KASPIEN HOLDINGS INC | B42: =TRUNC((20000-C42)/(G42*L42),0) -> 227 | C42: 49 | G42: 10.06 | L42: 8.7362 | M42: =(L42*G42*B42)+C42 -> 19999.161 | N42: 44126
A43: CADENCE BANCORPORATION CLASS A | B43: =TRUNC((20000-C43)/(G43*L43),0) -> 189 | C43: 49 | G43: 12.05 | L43: 8.7362 | M43: =(L43*G43*B43)+C43 -> 19945.259 | N43: 44126
A44: GROUP 1 AUTOMOTIVE. INC | B44: =TRUNC((20000-C44)/(G44*L44),0) -> 18 | C44: 49 | G44: 126 | L44: 8.7362 | M44: =(L44*G44*B44)+C44 -> 19862.702 | N44: 44126
A45: HORIZON BANCORP INC | B45: =TRUNC((20000-C45)/(G45*L45),0) -> 182 | C45: 49 | G45: 12.48 | L45: 8.7362 | M45: =(L45*G45*B45)+C45 -> 19892.055 | N45: 44126
A46: SOCIEDAD QUIMICA Y MINERA S.A. | B46: =TRUNC((20000-C46)/(G46*L46),0) -> 61 | C46: 49 | G46: 37.17 | L46: 8.7362 | M46: =(L46*G46*B46)+C46 -> 19857.198 | N46: 44126
A47: ERICSSONAMERICANDEPOSITARYSHAR | B47: =TRUNC((20000-C47)/(G47*L47),0) -> 183 | C47: 49 | G47: 12.44 | L47: 8.7362 | M47: =(L47*G47*B47)+C47 -> 19937.134 | N47: 44126
...

Sheet 20201130
A1: Vikingen Portfolio
A2: Status köp/sälj - 30 november 2020 | B2: Resultat | C2: Sålt | D2: Ingående kassa | E2: Köp | F2: Utdelning | G2: UB, Kassa efter köp | H2: Totalt värde | I2: Förändring sedan start, SEK | J2: Förändring sedan start | K2: OMXS30 | L2: OMXC25 | M2: Oslo börs | N2: Nasdaq 100 | O2: Datum
A3: Förändring sedan 2 jan 2020, % | B3: =J3 -> 0.69639284 | C3: =M28 -> 193564.05 | D3: ='20201031'!G3 -> 68944.733 | E3: =M51 -> 218736.76 | F3: =O28 -> 122.5287 | G3: =D3+C3-E3+F3 -> 43894.546 | H3: =G3+M70 -> 381688.39 | I3: =H3-225000 -> 156688.39 | J3: =I3/225000 -> 0.69639284 | K3: 1771.9 | L3: 1253.9 | M3: 931.5 | N3: 8733.1 | O3: 43830
A4: Förändring sedan 2 jan 2020, SEK | B4: =I3 -> 156688.39 | K4: 1917.54 | L4: 1596.78 | M4: 930.39 | N4: 12268.32 | O4: 44165
A5: Totalt Värde | B5: =H3 -> 381688.39 | K5: =(K4-K3)/K3 -> 0.082194255 | L5: =(L4-L3)/L3 -> 0.27345083 | M5: =(M4-M3)/M3 -> -0.0011916264 | N5: =(N4-N3)/N3 -> 0.404807 | O5: Diff
A6: Sålt | B6: =M28 -> 193564.05
A7: Köpt | B7: =M51 -> 218736.76
A8: Utdelning | B8: =F3 -> 122.5287
A9: Ingående kassa | B9: =D3 -> 68944.733
A10: Utgående kassa | B10: =G3 -> 43894.546
A12: Sälj | B12: Antal | C12: courtage | D12: Kurs SEK | E12: kurs DKK | F12: Kurs NOK | G12: Kurs USD | H12: DKK/SEK | I12: Kurs EUR | J12: EUR/SEK | K12: NOK/SEK | L12: USD/SEK | M12: summa | O12: Utdelning
A13: OMXS300W1725 | B13: 266 | C13: 99 | D13: 8 | M13: =(B13*D13)-C13 -> 2029
A14: BANG & OLUFSEN | B14: 887 | C14: 49 | E14: 20.04 | H14: 1.377149 | M14: =(B14*E14*H14)-C14 -> 24430.485 | N14: 20201116
A15: IRISITY | B15: 753 | C15: 39 | D15: 23.7 | M15: =(B15*D15)-C15 -> 17807.1 | N15: 20201116
A16: ARROWHEAD PHARMACEUTICALS. INC | B16: 38 | C16: 49 | G16: 69.07 | L16: 8.644 | M16: =(G16*B16*L16)-C16 -> 22638.561 | N16: 20201116
A17: CADENCE BANCORPORATION CLASS A | B17: 189 | C17: 49 | G17: 14.72 | L17: 8.644 | M17: =(G17*B17*L17)-C17 -> 23999.3 | N17: 20201116 | O17: =L17*0.075*B17 -> 122.5287
A18: BONESUPPORT | B18: 290 | C18: 39 | D18: 67.8 | M18: =(B18*D18)-C18 -> 19623 | N18: 20201116
A19: CREADES A | B19: 23 | C19: 39 | D19: 929 | M19: =(B19*D19)-C19 -> 21328 | N19: 20201116
A20: ERICSSONAMERICANDEPOSITARYSHAR | B20: 183 | C20: 49 | G20: 12.26 | L20: 8.5247 | M20: =(G20*B20*L20)-C20 -> 19076.846 | N20: 20201125
A21: ERICSSON B(SEK) | B21: 183 | C21: 39 | D21: 104.15 | M21: =(B21*D21)-C21 -> 19020.45 | N21: 20201125
A22: HORIZON BANCORP INC | B22: 182 | C22: 49 | G22: 15.25 | L22: 8.5247 | M22: =(G22*B22*L22)-C22 -> 23611.305 | N22: 20201125
M28: =SUM(M13:M27) -> 193564.05 | N28: =M28/10 -> 19356.405 | O28: =SUM(O13:O27) -> 122.5287
A30: Köp | B30: Antal | C30: courtage | D30: Kurs SEK | E30: kurs DKK | F30: Kurs NOK | G30: Kurs USD | H30: DKK/SEK | I30: Kurs EUR | J30: EUR/SEK | K30: NOK/SEK | L30: USD/SEK | M30: summa | T30: Senast | U30: Högsta | V30: Lägsta | W30: Första | X30: Volym | Y30: Volym 2
A31: ANHEUSER-BUSCH IN BEV SA/NV | B31: =TRUNC((20000-C31)/(G31*L31),0) -> 33 | C31: 49 | G31: 68 | L31: 8.644 | M31: =(B31*G31*L31)+C31 -> 19446.136 | N31: 44151 | T31: 68 | U31: 69.3 | V31: 67.25 | W31: 69.3 | X31: 1590793
A32: ATLAS CORP | B32: =TRUNC((20000-C32)/(G32*L32),0) -> 201 | C32: 49 | G32: 11.44 | L32: 8.644 | M32: =(B32*G32*L32)+C32 -> 19925.359 | N32: 44151 | T32: 11.44 | U32: 11.49 | V32: 11.12 | W32: 11.37 | X32: 610180
A33: MATTHEWS INTERNATIONAL CORP | B33: =TRUNC((20000-C33)/(G33*L33),0) -> 84 | C33: 49 | G33: 27.26 | L33: 8.644 | M33: =(B33*G33*L33)+C33 -> 19842.377 | N33: 44151 | T33: 27.26 | U33: 27.52 | V33: 26.19 | W33: 26.75 | X33: 152896
A34: MILLICOMINTERNATIONALCELLULARS | B34: =TRUNC((20000-C34)/(G34*L34),0) -> 62 | C34: 49 | G34: 36.85 | L34: 8.644 | M34: =(B34*G34*L34)+C34 -> 19797.947 | N34: 44151 | T34: 36.85 | U34: 37.29 | V34: 36.78 | W34: 37.26 | X34: 115485
A35: MØNS BANK A/S | B35: =TRUNC((20000-C35)/(E35*H35),0) -> 100 | C35: 49 | E35: 144 | H35: 1.377149 | M35: =(B35*E35*H35)+C35 -> 19879.946 | N35: 44151 | T35: 144 | U35: 144 | V35: 137 | W35: 139 | X35: 2337
A36: NORDFYNS BANK A/S | B36: =TRUNC((20000-C36)/(E36*H36),0) -> 104 | C36: 49 | E36: 139 | H36: 1.377149 | M36: =(B36*E36*H36)+C36 -> 19957.066 | N36: 44151 | T36: 139 | U36: 139 | V36: 136 | W36: 137 | X36: 3301
A37: RETAIL OPPORTUNITY INVS CORP | B37: =TRUNC((20000-C37)/(G37*L37),0) -> 169 | C37: 49 | G37: 13.61 | L37: 8.644 | M37: =(B37*G37*L37)+C37 -> 19930.978 | N37: 44151 | T37: 13.61 | U37: 13.89 | V37: 13.28 | W37: 13.5 | X37: 2429018
A38: RMG Aquisition Corp | B38: =TRUNC((20000-C38)/(G38*L38),0) -> 166 | C38: 49 | G38: 14.09 | L38: 8.5247 | M38: =(B38*G38*L38)+C38 -> 19987.762 | N38: 20201125
A39: Everfuel | B39: =TRUNC((20000-C39)/(F39*K39),0) -> 564 | C39: 49 | F39: 36.8 | K39: 0.961167 | M39: =(B39*K39*F39)+C39 -> 19998.213 | N39: 20201125
A40: Soltech Energy Sweden | B40: =TRUNC((20000-C40)/(D40),0) -> 762 | C40: 39 | D40: 26.18 | M40: =(B40*D40)+C40 -> 19988.16 | N40: 20201125
A41: Virogates | B41: =TRUNC((20000-C41)/(E41*H41),0) -> 200 | C41: 49 | E41: 73 | H41: 1.36533 | M41: =(B41*E41*H41)+C41 -> 19982.818 | N41: 20201125
M43: =(L43*G43*B43)-C43 -> 0
M44: =(L44*G44*B44)-C44 -> 0
M45: =(L45*G45*B45)-C45 -> 0
M46: =(L46*G46*B46)-C46 -> 0
M47: =(B47*D47)-C47 -> 0
M48: =(B48*D48)-C48 -> 0
...

Sheet 20201231
A1: Vikingen Portfolio
A2: Status köp/sälj - 16 december 2020 | B2: Resultat | C2: Sålt | D2: Ingående kassa | E2: Köp | F2: Utdelning | G2: UB, Kassa efter köp | H2: Totalt värde | I2: Förändring sedan start, SEK | J2: Förändring sedan start | K2: OMXS30 | L2: OMXC25 | M2: Oslo börs | N2: Nasdaq 100 | O2: Datum
A3: Förändring sedan 2 jan 2020, % | B3: =J3 -> 0.85499159 | C3: =M28 -> 234673 | D3: ='20201130'!G3 -> 43894.546 | E3: =M43 -> 199032.98 | F3: =O62 -> 149.60572 | G3: =D3+C3-E3+F3 -> 79684.167 | H3: =G3+M62 -> 417373.11 | I3: =H3-225000 -> 192373.11 | J3: =I3/225000 -> 0.85499159 | K3: 1771.9 | L3: 1253.9 | M3: 931.5 | N3: 8733.1 | O3: 43830
A4: Förändring sedan 2 jan 2020, SEK | B4: =I3 -> 192373.11 | K4: 1874.74 | L4: 1676.67 | M4: 973.97 | N4: 12888.28 | O4: 44196
A5: Totalt Värde | B5: =H3 -> 417373.11 | K5: =(K4-K3)/K3 -> 0.058039393 | L5: =(L4-L3)/L3 -> 0.33716405 | M5: =(M4-M3)/M3 -> 0.045593129 | N5: =(N4-N3)/N3 -> 0.47579668 | O5: Diff
A6: Sålt | B6: =M28 -> 234673
A7: Köpt | B7: =M43 -> 199032.98
A8: Utdelning | B8: =F3 -> 149.60572
A9: Ingående kassa | B9: =D3 -> 43894.546
A10: Utgående kassa | B10: =G3 -> 79684.167
A12: Sälj | B12: Antal | C12: courtage | D12: Kurs SEK | E12: kurs DKK | F12: Kurs NOK | G12: Kurs USD | H12: DKK/SEK | I12: Kurs EUR | J12: EUR/SEK | K12: NOK/SEK | L12: USD/SEK | M12: summa
A13: BHG GROUP | B13: 159 | C13: 39 | D13: 145.4 | M13: =(B13*D13)-C13 -> 23079.6 | N13: 20201210
A14: GROUP 1 AUTOMOTIVE. INC | B14: 18 | C14: 49 | G14: 120.57 | L14: 8.4728 | M14: =(B14*G14*L14)-C14 -> 18339.179 | N14: 20201210
A15: KASPIEN HOLDINGS INC | B15: 227 | C15: 49 | G15: 13.21 | L15: 8.4728 | M15: =(B15*G15*L15)-C15 -> 25358.131 | N15: 20201210
A16: SOCIEDAD QUIMICA Y MINERA S.A. | B16: 61 | C16: 49 | G16: 47.1 | L16: 8.4728 | M16: =(B16*G16*L16)-C16 -> 24294.202 | N16: 20201210
A17: ATLAS CORP | B17: 201 | C17: 49 | G17: 11.46 | L17: 8.4728 | M17: =(B17*G17*L17)-C17 -> 19467.756 | N17: 20201210
A18: MILLICOMINTERNATIONALCELLULARS | B18: 62 | C18: 49 | G18: 39.43 | L18: 8.4728 | M18: =(B18*G18*L18)-C18 -> 20664.115 | N18: 20201210
A19: MØNS BANK A/S | B19: 100 | C19: 49 | E19: 149 | H19: 1.376894 | M19: =(B19*E19*H19)-C19 -> 20466.721 | N19: 20201210
A20: Soltech Energy Sweden | B20: 762 | C20: 39 | D20: 24.9 | M20: =(B20*D20)-C20 -> 18934.8 | N20: 20201210
A21: Virogates | B21: 200 | C21: 49 | E21: 87 | H21: 1.376894 | M21: =(B21*E21*H21)-C21 -> 23908.956 | N21: 20201210
A22: Everfuel | B22: 564 | C22: 49 | F22: 74.2 | K22: 0.960805 | M22: =(B22*F22*K22)-C22 -> 40159.536 | N22: 20201210
M28: =SUM(M13:M27) -> 234673 | N28: =M28/10 -> 23467.3
A30: Köp | B30: Antal | C30: courtage | D30: Kurs SEK | E30: kurs DKK | F30: Kurs NOK | G30: Kurs USD | H30: DKK/SEK | I30: Kurs EUR | J30: EUR/SEK | K30: NOK/SEK | L30: USD/SEK | M30: summa
A31: NORWEGIAN AIR SHUTTLE/OB | B31: =TRUNC((20000-C31)/(F31*K31),0) -> 22090 | C31: 49 | F31: 0.94 | K31: 0.960805 | M31: =K31*F31*B31+C31 -> 19999.732 | N31: 20201210
A32: EVOLUTION GAMING GROUP | B32: =TRUNC((20000-C32)/(D32),0) -> 25 | C32: 39 | D32: 778 | M32: =(B32*D32)+C32 -> 19489 | N32: 20201210
A33: METSÄ BOARD A | B33: =TRUNC((20000-C33)/(I33*J33),0) -> 237 | C33: 49 | I33: 8.2 | J33: 10.2483 | M33: =(B33*I33*J33)+49 -> 19965.546 | N33: 20201210
A34: CARASENT/OB | B34: =TRUNC((20000-C34)/(F34*K34),0) -> 661 | C34: 49 | F34: 31.4 | K34: 0.960805 | M34: =K34*F34*B34+C34 -> 19990.892 | N34: 20201210
A35: TUSCAN HOLDINGS CORP - UNIT | B35: =TRUNC((20000-C35)/(G35*L35),0) -> 120 | C35: 49 | G35: 19.5 | L35: 8.4728 | M35: =(B35*G35*L35)+C35 -> 19875.352 | N35: 20201210
A36: PLAYAGS. INC | B36: =TRUNC((20000-C36)/(G36*L36),0) -> 394 | C36: 49 | G36: 5.97 | L36: 8.4728 | M36: =(B36*G36*L36)+C36 -> 19978.551 | N36: 20201210
A37: MOHAWK GROUP HOLDINGS. INC | B37: =TRUNC((20000-C37)/(G37*L37),0) -> 235 | C37: 49 | G37: 10 | L37: 8.4728 | M37: =(B37*G37*L37)+C37 -> 19960.08 | N37: 20201210
A38: RHOVAC | B38: =TRUNC((20000-C38)/(D38),0) -> 829 | C38: 39 | D38: 24.05 | M38: =(B38*D38)+C38 -> 19976.45 | N38: 20201210
A39: ADDNODE GROUP B | B39: =TRUNC((20000-C39)/(D39),0) -> 76 | C39: 39 | D39: 260 | M39: =(B39*D39)+C39 -> 19799 | N39: 20201210
A40: OWENS & MINOR. INC | B40: =TRUNC((20000-C40)/(G40*L40),0) -> 84 | C40: 49 | G40: 28.03 | L40: 8.4728 | M40: =(B40*G40*L40)+C40 -> 19998.377 | N40: 20201210
M43: =SUM(M31:M42) -> 199032.98
A46: Innehav | B46: Antal | D46: Kurs SEK | E46: kurs DKK | F46: Kurs NOK | G46: kurs USD | H46: DKK/SEK | I46: Kurs EUR | J46: EUR/SEK | K46: NOK/SEK | L46: USD/SEK | M46: summa | O46: Utdelning
A47: RMG Aquisition Corp->Romeo Power | B47: 166 | G47: 22.49 | L47: 8.1886 | M47: =L47*G47*B47 -> 30570.828
A48: ANHEUSER-BUSCH IN BEV SA/NV | B48: 33 | G48: 69.91 | L48: 8.1886 | M48: =L48*G48*B48 -> 18891.346 | Q48: 100 DKK | R48: 1 EUR | S48: 100 NOK | T48: 1 USD
A49: MATTHEWS INTERNATIONAL CORP | B49: 84 | G49: 29.4 | L49: 8.1886 | M49: =L49*G49*B49 -> 20222.567 | O49: =0.215*B49*L49 -> 147.88612 | P49: 44181 | Q49: 136.6826 | R49: 10.1718 | S49: 96.2409 | T49: 8.3449
A50: NORDFYNS BANK A/S | B50: 104 | E50: 163 | H50: 1.349232 | M50: =B50*H50*E50 -> 22872.181 | P50: 44195 | Q50: 134.9232 | R50: 10.0375 | S50: 95.4564 | T50: 8.1886
A51: RETAIL OPPORTUNITY INVS CORP | B51: 169 | G51: 13.39 | L51: 8.1886 | M51: =L51*G51*B51 -> 18530.065
...
